BEGIN:VCALENDAR
VERSION:2.0
PRODID:-//NC Clean Energy Technology Center - ECPv6.0.7//NONSGML v1.0//EN
CALSCALE:GREGORIAN
METHOD:PUBLISH
X-WR-CALNAME:NC Clean Energy Technology Center
X-ORIGINAL-URL:https://nccleantech.ncsu.edu
X-WR-CALDESC:Events for NC Clean Energy Technology Center
REFRESH-INTERVAL;VALUE=DURATION:PT1H
X-Robots-Tag:noindex
X-PUBLISHED-TTL:PT1H
BEGIN:VTIMEZONE
TZID:UTC
BEGIN:STANDARD
TZOFFSETFROM:+0000
TZOFFSETTO:+0000
TZNAME:UTC
DTSTART:20240101T000000
END:STANDARD
END:VTIMEZONE
BEGIN:VEVENT
DTSTART;TZID=UTC:20240508T140000
DTEND;TZID=UTC:20240508T153000
DTSTAMP:20260425T233635
CREATED:20240404T163654Z
LAST-MODIFIED:20240404T171158Z
UID:10939-1715176800-1715182200@nccleantech.ncsu.edu
SUMMARY:Sustainable Fleet Technology Webinar Series: Hydrogen: Considerations in Fleet Use
DESCRIPTION:This webinar will focus on hydrogen as a transportation fleet. Come listen to subject matter experts discuss the logistics you should consider when using hydrogen as a fuel for your fleet. \nREGISTER
URL:https://nccleantech.ncsu.edu/event/sustainable-fleet-technology-webinar-series-hydrogen-considerations-in-fleet-use/
LOCATION:Virtual
CATEGORIES:Clean Transportation,Clean Transportation Webinars
ATTACH;FMTTYPE=image/png:https://nccleantech.ncsu.edu/wp-content/uploads/2024/03/SFT-Webinar-Series-2024-with-logos@2x-e1709587507757.png
ORGANIZER;CN="NC%20Clean%20Energy%20Technology%20Center":MAILTO:nccleantech@ncsu.edu
END:VEVENT
END:VCALENDAR