BEGIN:VCALENDAR
VERSION:2.0
PRODID:-//NC Clean Energy Technology Center - ECPv6.0.7//NONSGML v1.0//EN
CALSCALE:GREGORIAN
METHOD:PUBLISH
X-WR-CALNAME:NC Clean Energy Technology Center
X-ORIGINAL-URL:https://nccleantech.ncsu.edu
X-WR-CALDESC:Events for NC Clean Energy Technology Center
REFRESH-INTERVAL;VALUE=DURATION:PT1H
X-Robots-Tag:noindex
X-PUBLISHED-TTL:PT1H
BEGIN:VTIMEZONE
TZID:UTC
BEGIN:STANDARD
TZOFFSETFROM:+0000
TZOFFSETTO:+0000
TZNAME:UTC
DTSTART:20180101T000000
END:STANDARD
END:VTIMEZONE
BEGIN:VEVENT
DTSTART;TZID=UTC:20180928T173000
DTEND;TZID=UTC:20180928T203000
DTSTAMP:20260423T190510
CREATED:20180917T153949Z
LAST-MODIFIED:20180917T153949Z
UID:2181-1538155800-1538166600@nccleantech.ncsu.edu
SUMMARY:Alternative Fuel Vehicle Demonstration
DESCRIPTION:Learn more about electric and alternative fuel vehicles outside of the Close-King Indoor Practice Facility on Friday\, September 28\, and check out an ethanol-fueled car as well as a lineup of some of the latest electric vehicles and hybrid models that will be on display from local dealerships\, including the Nissan Leaf\, Chevy Bolt and Chrysler Pacifica. For more information on transportation technologies that help keep our air cleaner\, visit www.fuelwhatmatters.org. \nRegister at https://driveelectricweek.org/event.php?eventid=1345.
URL:https://nccleantech.ncsu.edu/event/alternative-fuel-vehicle-demonstration/
LOCATION:Close-King Indoor Practice Facility\, Raleigh\, NC\, 27607\, United States
CATEGORIES:Clean Transportation
ORGANIZER;CN="NC%20Clean%20Energy%20Technology%20Center%20-%20Richard%20Sapienza%20NULL":MAILTO:resapien@ncsu.edu
END:VEVENT
END:VCALENDAR