BEGIN:VCALENDAR
VERSION:2.0
PRODID:-//NC Clean Energy Technology Center - ECPv6.0.7//NONSGML v1.0//EN
CALSCALE:GREGORIAN
METHOD:PUBLISH
X-WR-CALNAME:NC Clean Energy Technology Center
X-ORIGINAL-URL:https://nccleantech.ncsu.edu
X-WR-CALDESC:Events for NC Clean Energy Technology Center
REFRESH-INTERVAL;VALUE=DURATION:PT1H
X-Robots-Tag:noindex
X-PUBLISHED-TTL:PT1H
BEGIN:VTIMEZONE
TZID:UTC
BEGIN:STANDARD
TZOFFSETFROM:+0000
TZOFFSETTO:+0000
TZNAME:UTC
DTSTART:20260101T000000
END:STANDARD
END:VTIMEZONE
BEGIN:VEVENT
DTSTART;TZID=UTC:20260223T080000
DTEND;TZID=UTC:20260510T170000
DTSTAMP:20260424T035317
CREATED:20260106T161531Z
LAST-MODIFIED:20260106T161531Z
UID:13613-1771833600-1778432400@nccleantech.ncsu.edu
SUMMARY:REPD: Renewable Energy Project Development
DESCRIPTION:The goal of this online survey course is to provide a sound foundation regarding existing renewable energy technology applications\, solar fundamentals\, and the business aspects of project development. Additionally\, the course will delve into the policies that currently dictate the market\, the financial models involved in funding a project\, and what considerations need to be made when developing a project. \nThis eleven-week course includes live and pre-recorded webinars and assignments completed virtually. Participants are required to submit a final project to successfully complete the course. \nLEARN MORE & REGISTER
URL:https://nccleantech.ncsu.edu/event/repd-renewable-energy-project-development-2/
LOCATION:NC
CATEGORIES:Training
ATTACH;FMTTYPE=image/png:https://nccleantech.ncsu.edu/wp-content/uploads/2026/01/REPD-Spring-2026.png
ORGANIZER;CN="NC%20Clean%20Energy%20Technology%20Center":MAILTO:nccleantech@ncsu.edu
END:VEVENT
BEGIN:VEVENT
DTSTART;TZID=UTC:20260420T080000
DTEND;TZID=UTC:20260424T170000
DTSTAMP:20260424T035317
CREATED:20260106T160603Z
LAST-MODIFIED:20260106T160603Z
UID:13601-1776672000-1777050000@nccleantech.ncsu.edu
SUMMARY:ASPV: Advanced Solar PV Design & Installation
DESCRIPTION:This 5-day\, 40-hour advanced photovoltaics course covers advanced topics on the design and installation of residential and commercial PV systems and delves into the details of electrical standards and codes. The bulk of this weeklong workshop covers topics relating to the National Electrical Code® (NEC) requirements for PV systems and prepares the participant for proper code compliance\, wire sizing\, equipment specifications\, permit processing\, commissioning\, and other necessary steps in the design and installation phases of residential and commercial systems. Activities in this workshop include designing a multiple inverter commercial PV system\, from choosing equipment to processing forms\, and a tour of commercial rooftop PV systems. \nLEARN MORE & REGISTER
URL:https://nccleantech.ncsu.edu/event/aspv-advanced-solar-pv-design-installation/
LOCATION:NC Clean Energy Technology Center\, 1575 Varsity Drive\, Raleigh\, NC\, United States
CATEGORIES:Training
ATTACH;FMTTYPE=image/png:https://nccleantech.ncsu.edu/wp-content/uploads/2026/01/ASPV-Spring-2026.png
ORGANIZER;CN="NC%20Clean%20Energy%20Technology%20Center":MAILTO:nccleantech@ncsu.edu
END:VEVENT
END:VCALENDAR