BEGIN:VCALENDAR
VERSION:2.0
PRODID:-//NC Clean Energy Technology Center - ECPv6.0.7//NONSGML v1.0//EN
CALSCALE:GREGORIAN
METHOD:PUBLISH
X-WR-CALNAME:NC Clean Energy Technology Center
X-ORIGINAL-URL:https://nccleantech.ncsu.edu
X-WR-CALDESC:Events for NC Clean Energy Technology Center
REFRESH-INTERVAL;VALUE=DURATION:PT1H
X-Robots-Tag:noindex
X-PUBLISHED-TTL:PT1H
BEGIN:VTIMEZONE
TZID:UTC
BEGIN:STANDARD
TZOFFSETFROM:+0000
TZOFFSETTO:+0000
TZNAME:UTC
DTSTART:20260101T000000
END:STANDARD
END:VTIMEZONE
BEGIN:VEVENT
DTSTART;TZID=UTC:20260423T160000
DTEND;TZID=UTC:20260423T170000
DTSTAMP:20260423T061842
CREATED:20260409T171932Z
LAST-MODIFIED:20260409T171932Z
UID:13923-1776960000-1776963600@nccleantech.ncsu.edu
SUMMARY:Tracking Down Data: Where to Find Climate and Environmental Information in 2026
DESCRIPTION:The Environmental and Energy Study Institute (EESI) and Climate Central are hosting a briefing to discuss a key underpinning of the U.S. economy: publicly-available weather and climate data. Federal data is used as an input to weather models that are essential to public safety and helps businesses—from farms and insurance companies to airlines and utilities—make daily decisions. Historically\, Congress has played a central role in directing federal agencies to collect\, analyze\, and report weather and climate data. But today\, hundreds of federal scientific datasets and reports\, like the national climate assessments\, have been removed from public access\, altered\, or buried. Popular climate webpages (e.g.\, climate.gov and EJScreen ) have been taken down or archived. \nIn this new information environment\, universities\, nonprofits\, and national associations are stepping up to fill the gaps in maintaining weather and climate data left by the federal government. Panelists will share where to look for these datasets and explore how these organizations are maintaining public access to critical information without the resources afforded by the federal government. They will also describe the implications of these changes for end users\, from individuals using weather apps to multinational corporations making significant business decisions. \nThis event is free and open to the public. Attendees can join in-person or view the live webcast. \nLEARN MORE & REGISTER
URL:https://nccleantech.ncsu.edu/event/tracking-down-data-where-to-find-climate-and-environmental-information-in-2026/
LOCATION:Rayburn House Office Building Gold Room (Room 2168)\, 45 Independence Ave SW\, Washington\, DC\, 20515\, United States
CATEGORIES:Clean Power & Efficiency,Clean Transportation,Policy,Renewables,Training
ATTACH;FMTTYPE=image/png:https://nccleantech.ncsu.edu/wp-content/uploads/2026/04/eesi-logo-1.png
END:VEVENT
BEGIN:VEVENT
DTSTART;TZID=UTC:20260428T080000
DTEND;TZID=UTC:20260429T170000
DTSTAMP:20260423T061842
CREATED:20251209T231633Z
LAST-MODIFIED:20251209T231633Z
UID:13500-1777363200-1777482000@nccleantech.ncsu.edu
SUMMARY:2026 State Energy Conference of North Carolina
DESCRIPTION:Powering Connections. Driving Innovation.\nThe State Energy Conference of North Carolina brings together energy professionals\, policy makers\, innovators\, and businesses to explore the latest trends\, technologies\, and strategies shaping the energy sector. This premier event delivers actionable insights that support North Carolina’s regional energy economy and foster national impact.\n‍\nJoin us to:\n* Connect with industry leaders and peers\n* Discover best practices and proven case studies\n* Explore emerging technologies and energy solutions\n* Engage in important discussions on policy\, innovation\, and sustainability \nREGISTER & LEARN MORE
URL:https://nccleantech.ncsu.edu/event/2026-state-energy-conference-of-north-carolina/
LOCATION:McKimmon Conference and Training Center\, NC State University\, 1101 Gorman Street\, Raleigh\, NC\, 27606
CATEGORIES:Clean Power & Efficiency,Clean Transportation,Policy,Renewables,Training
ATTACH;FMTTYPE=image/png:https://nccleantech.ncsu.edu/wp-content/uploads/2025/12/2026-SEC-Header-10-1.png
ORGANIZER;CN="NC%20Clean%20Energy%20Technology%20Center":MAILTO:nccleantech@ncsu.edu
END:VEVENT
END:VCALENDAR