BEGIN:VCALENDAR
VERSION:2.0
PRODID:-//NC Clean Energy Technology Center - ECPv6.0.7//NONSGML v1.0//EN
CALSCALE:GREGORIAN
METHOD:PUBLISH
X-WR-CALNAME:NC Clean Energy Technology Center
X-ORIGINAL-URL:https://nccleantech.ncsu.edu
X-WR-CALDESC:Events for NC Clean Energy Technology Center
REFRESH-INTERVAL;VALUE=DURATION:PT1H
X-Robots-Tag:noindex
X-PUBLISHED-TTL:PT1H
BEGIN:VTIMEZONE
TZID:UTC
BEGIN:STANDARD
TZOFFSETFROM:+0000
TZOFFSETTO:+0000
TZNAME:UTC
DTSTART:20260101T000000
END:STANDARD
END:VTIMEZONE
BEGIN:VEVENT
DTSTART;TZID=UTC:20260607T080000
DTEND;TZID=UTC:20260611T170000
DTSTAMP:20260424T101336
CREATED:20260409T181016Z
LAST-MODIFIED:20260409T181016Z
UID:13947-1780819200-1781197200@nccleantech.ncsu.edu
SUMMARY:94th North Carolina Electric Meter School and Grid Technology Conference
DESCRIPTION:The North Carolina Electric Meter School and Grid Technology Conference brings together personnel from across the electric utility industry to explore common problems\, standard practices\, procedures and new technologies. The school provides a unique learning environment and opportunity to explore all aspects of metering and basic substation equipment and operation. \nThe school offers specialized tracks for beginners\, seasoned professionals and leaders alike. \n\nDiscover new technologies\, practices and solutions to keep pace with the ever-changing electric industry.\nConnect with leaders and peers to discuss common problems and effective solutions.\nEngage directly with vendors to learn about the newest products.\n\nThis conference is open to anyone interested in learning more about metering and substations! \nLEARN MORE & REGISTER
URL:https://nccleantech.ncsu.edu/event/94th-north-carolina-electric-meter-school-and-grid-technology-conference/
LOCATION:Kingston Resorts\, 9800 Queensway Blvd\, Myrtle Beach\, SC\, 29572\, United States
ATTACH;FMTTYPE=image/png:https://nccleantech.ncsu.edu/wp-content/uploads/2026/04/MeterSchool_img-1536x833-1.png
END:VEVENT
BEGIN:VEVENT
DTSTART;TZID=UTC:20260609T080000
DTEND;TZID=UTC:20260610T170000
DTSTAMP:20260424T101336
CREATED:20260106T160941Z
LAST-MODIFIED:20260106T160941Z
UID:13604-1780992000-1781110800@nccleantech.ncsu.edu
SUMMARY:O&M: Operations & Maintenance of PV Systems
DESCRIPTION:This 2-day\, 16-hour\, in-person course focuses on the operation and maintenance of grid-connected photovoltaic systems. The first part of this course is taught in a classroom format and covers evaluating the performance of systems\, including specific data collection and evaluation\, as well as protocols for collection; arc flash requirements; finding ground faults; thermal imaging; IV curve tracing\, and fuse servicing. The second part of the course involves various hands-on activities in which participants are able to practice and utilize the skills they have learned throughout the course. \nLEARN MORE & REGISTER
URL:https://nccleantech.ncsu.edu/event/om-operations-maintenance-of-pv-systems/
LOCATION:NC Clean Energy Technology Center\, 1575 Varsity Drive\, Raleigh\, NC\, United States
CATEGORIES:Training
ATTACH;FMTTYPE=image/png:https://nccleantech.ncsu.edu/wp-content/uploads/2026/01/OM-Spring-2026.png
ORGANIZER;CN="NC%20Clean%20Energy%20Technology%20Center":MAILTO:nccleantech@ncsu.edu
END:VEVENT
END:VCALENDAR