BEGIN:VCALENDAR
VERSION:2.0
PRODID:-//NC Clean Energy Technology Center - ECPv6.0.7//NONSGML v1.0//EN
CALSCALE:GREGORIAN
METHOD:PUBLISH
X-WR-CALNAME:NC Clean Energy Technology Center
X-ORIGINAL-URL:https://nccleantech.ncsu.edu
X-WR-CALDESC:Events for NC Clean Energy Technology Center
REFRESH-INTERVAL;VALUE=DURATION:PT1H
X-Robots-Tag:noindex
X-PUBLISHED-TTL:PT1H
BEGIN:VTIMEZONE
TZID:UTC
BEGIN:STANDARD
TZOFFSETFROM:+0000
TZOFFSETTO:+0000
TZNAME:UTC
DTSTART:20250101T000000
END:STANDARD
END:VTIMEZONE
BEGIN:VEVENT
DTSTART;TZID=UTC:20250804T080000
DTEND;TZID=UTC:20250807T170000
DTSTAMP:20260423T084324
CREATED:20250717T141228Z
LAST-MODIFIED:20250717T141228Z
UID:13079-1754294400-1754586000@nccleantech.ncsu.edu
SUMMARY:Solar Farm Summit
DESCRIPTION:LEARN MORE & REGISTER \nExplore the full agrivoltaics ecosystem at North America’s only dedicated expo uniting solar\, agriculture\, conservation\, and land use. See how industry leaders\, farmers\, researchers\, and agencies are shaping the future of dual-use land solutions. \nSteve Kalland and Brittany Santore will be attending this event.
URL:https://nccleantech.ncsu.edu/event/solar-farm-summit/
LOCATION:McCormick Place Lakeside Center\, 2301 S. Lake Shore Drive\, Chicago\, IL\, 60616\, United States
CATEGORIES:Renewables,Training
END:VEVENT
END:VCALENDAR