BEGIN:VCALENDAR
VERSION:2.0
PRODID:-//NC Clean Energy Technology Center - ECPv6.0.7//NONSGML v1.0//EN
CALSCALE:GREGORIAN
METHOD:PUBLISH
X-WR-CALNAME:NC Clean Energy Technology Center
X-ORIGINAL-URL:https://nccleantech.ncsu.edu
X-WR-CALDESC:Events for NC Clean Energy Technology Center
REFRESH-INTERVAL;VALUE=DURATION:PT1H
X-Robots-Tag:noindex
X-PUBLISHED-TTL:PT1H
BEGIN:VTIMEZONE
TZID:UTC
BEGIN:STANDARD
TZOFFSETFROM:+0000
TZOFFSETTO:+0000
TZNAME:UTC
DTSTART:20250101T000000
END:STANDARD
END:VTIMEZONE
BEGIN:VEVENT
DTSTART;TZID=UTC:20250106T080000
DTEND;TZID=UTC:20250108T170000
DTSTAMP:20260422T150948
CREATED:20250107T192706Z
LAST-MODIFIED:20250107T192706Z
UID:12058-1736150400-1736355600@nccleantech.ncsu.edu
SUMMARY:NC State Cooperative Extension Conference
DESCRIPTION:The N.C. Cooperative Extension State Conference\, or often just “Extension Conference\,” is our organization’s primary programmatic and professional development event\, held bi-annually for all Extension employees in North Carolina.
URL:https://nccleantech.ncsu.edu/event/nc-state-cooperative-extension-conference/
LOCATION:Koury Convention Center\, 3121 W Gate City Blvd\, Greensboro\, NC\, 27407\, United States
CATEGORIES:Clean Power & Efficiency,Clean Transportation,Policy,Renewables,Training
END:VEVENT
END:VCALENDAR