BEGIN:VCALENDAR
VERSION:2.0
PRODID:-//NC Clean Energy Technology Center - ECPv6.0.7//NONSGML v1.0//EN
CALSCALE:GREGORIAN
METHOD:PUBLISH
X-WR-CALNAME:NC Clean Energy Technology Center
X-ORIGINAL-URL:https://nccleantech.ncsu.edu
X-WR-CALDESC:Events for NC Clean Energy Technology Center
REFRESH-INTERVAL;VALUE=DURATION:PT1H
X-Robots-Tag:noindex
X-PUBLISHED-TTL:PT1H
BEGIN:VTIMEZONE
TZID:UTC
BEGIN:STANDARD
TZOFFSETFROM:+0000
TZOFFSETTO:+0000
TZNAME:UTC
DTSTART:20240101T000000
END:STANDARD
END:VTIMEZONE
BEGIN:VEVENT
DTSTART;TZID=UTC:20240806T080000
DTEND;TZID=UTC:20240807T150000
DTSTAMP:20260422T050952
CREATED:20240819T194050Z
LAST-MODIFIED:20240819T194050Z
UID:11535-1722931200-1723042800@nccleantech.ncsu.edu
SUMMARY:North Carolina Manufacturers Alliance: North Carolina Environment\, Energy\, Health & Safety School
DESCRIPTION:Now in its 23rd year\, EEHS School offers: \n\nTwo days | 27 topics | three consecutive tracks\nSessions for novice\, intermediate\, and advanced practitioners covering air quality\, water quality\, solid and hazardous waste\, occupational safety and health\, energy\, and sustainability\nInstruction from more than 40 recognized subject matter experts from the public and private sectors\nPresentations from regulators\, attorneys\, consultants\, and industry representatives with practical hands-on experience\nNetworking with peer environmental\, energy\, health & safety professionals\nActive Exhibit Hall with leading solution providers showcasing a full range of EEHS products and services\nExtended breaks between sessions\, two buffet luncheons\, Tuesday evening reception\, and door prizes with a $1\,000 grand prize drawing in the Exhibition Hall\n\nNCCETC Clean Power and Industrial Efficiency team members Art Samberg\, Anna Weitz\, and Griffin Smith exhibited at this event.
URL:https://nccleantech.ncsu.edu/event/north-carolina-manufacturers-alliance-north-carolina-environment-energy-health-safety-school/
LOCATION:McKimmon Conference and Training Center\, NC State University\, 1101 Gorman Street\, Raleigh\, NC\, 27606
CATEGORIES:Clean Power & Efficiency
END:VEVENT
END:VCALENDAR