BEGIN:VCALENDAR
VERSION:2.0
PRODID:-//NC Clean Energy Technology Center - ECPv6.0.7//NONSGML v1.0//EN
CALSCALE:GREGORIAN
METHOD:PUBLISH
X-WR-CALNAME:NC Clean Energy Technology Center
X-ORIGINAL-URL:https://nccleantech.ncsu.edu
X-WR-CALDESC:Events for NC Clean Energy Technology Center
REFRESH-INTERVAL;VALUE=DURATION:PT1H
X-Robots-Tag:noindex
X-PUBLISHED-TTL:PT1H
BEGIN:VTIMEZONE
TZID:UTC
BEGIN:STANDARD
TZOFFSETFROM:+0000
TZOFFSETTO:+0000
TZNAME:UTC
DTSTART:20240101T000000
END:STANDARD
END:VTIMEZONE
BEGIN:VEVENT
DTSTART;TZID=UTC:20240617T070000
DTEND;TZID=UTC:20240620T130000
DTSTAMP:20260422T173656
CREATED:20240606T171053Z
LAST-MODIFIED:20240606T171053Z
UID:11311-1718607600-1718888400@nccleantech.ncsu.edu
SUMMARY:IDEA 2024 District Energy for Sustainable Cities
DESCRIPTION:The IDEA Annual Conference is where international leaders in district energy converge to discuss the future of the industry. This year’s theme\, “District Energy for Sustainable Cities\,” will take place at the Renaissance Orlando at SeaWorld\, June 17-20.\n\nCities\, communities\, campuses and clusters are implementing district energy infrastructure to mitigate and prepare for the impacts of climate change\, cut emissions and provide a more robust\, resilient and connected local economy. In 2024\, industry focus on de-carbonizing and fortifying energy systems will involve partnering\, planning and robust investment.\n\nThe CPIE team is going to this conference and holding a booth in the exhibit hall to promote the DOE Onsite Energy TAP Southeast.
URL:https://nccleantech.ncsu.edu/event/idea-2024-district-energy-for-sustainable-cities/
LOCATION:Renaissance Orlando at SeaWorld\, 6677 Sea Harbor Dr.\, Orlando\, FL\, 32821\, United States
CATEGORIES:Clean Power & Efficiency,Renewables
ORGANIZER;CN="International%20District%20Energy%20Association":MAILTO:idea@districtenergy.org
END:VEVENT
END:VCALENDAR