BEGIN:VCALENDAR
VERSION:2.0
PRODID:-//NC Clean Energy Technology Center - ECPv6.0.7//NONSGML v1.0//EN
CALSCALE:GREGORIAN
METHOD:PUBLISH
X-WR-CALNAME:NC Clean Energy Technology Center
X-ORIGINAL-URL:https://nccleantech.ncsu.edu
X-WR-CALDESC:Events for NC Clean Energy Technology Center
REFRESH-INTERVAL;VALUE=DURATION:PT1H
X-Robots-Tag:noindex
X-PUBLISHED-TTL:PT1H
BEGIN:VTIMEZONE
TZID:UTC
BEGIN:STANDARD
TZOFFSETFROM:+0000
TZOFFSETTO:+0000
TZNAME:UTC
DTSTART:20230101T000000
END:STANDARD
END:VTIMEZONE
BEGIN:VEVENT
DTSTART;TZID=UTC:20230515T080000
DTEND;TZID=UTC:20230519T170000
DTSTAMP:20260425T133739
CREATED:20221208T000243Z
LAST-MODIFIED:20230314T222443Z
UID:8974-1684137600-1684515600@nccleantech.ncsu.edu
SUMMARY:ASPV: Advanced Solar PV Design and Installation
DESCRIPTION:CLICK HERE TO REGISTER\nSpring Session: May 15–19\, 2023 \nFall Session: October 16–20\, 2023 \nLength: 40 Course Hours / 5 Days \nCourse Cost: $1\,499* \nPrerequisites: Working knowledge of solar PV; currently working in the solar industry; and/or have taken a fundamentals course such as FSPV \nCourse Description: The bulk of this week-long Advanced Solar PV Design and Installation (ASPV) workshop covers topics relating to the National Electrical Code® (NEC) requirements for PV systems and prepares the participant for proper code compliance\, wire sizing\, equipment specifications\, permit processing\, commissioning and other necessary steps in the design and installation phases of residential and commercial systems. Activities in this workshop include designing a multiple inverter commercial PV system\, from choosing equipment to processing forms\, and a tour of commercial PV systems. \nNABCEP PV Installation Professional: ASPV counts for the 40-hour advanced PV course education requirement  found in SEC 3.5 of the NABCEP Candidate Handbook needed to sit for the NABCEP PV Installation Professional Certification Exam. \n*Registration fee includes lunch\, parking\, and a notebook! \n*Payment plans are available.
URL:https://nccleantech.ncsu.edu/event/aspv-may-2023/
LOCATION:NCCETC Module 5 Training Room\, 1575 Varsity Drive\, Raleigh\, NC\, 27606\, United States
CATEGORIES:Training
ATTACH;FMTTYPE=image/png:https://nccleantech.ncsu.edu/wp-content/uploads/2023/02/ASPV-Spring-2023-NCCETC-Training-Course.png
ORGANIZER;CN="NC%20Clean%20Energy%20Technology%20Center":MAILTO:nccleantech@ncsu.edu
END:VEVENT
BEGIN:VEVENT
DTSTART;TZID=UTC:20230517T080000
DTEND;TZID=UTC:20230518T170000
DTSTAMP:20260425T133739
CREATED:20230502T201516Z
LAST-MODIFIED:20230502T201516Z
UID:9545-1684310400-1684429200@nccleantech.ncsu.edu
SUMMARY:RE+ Southeast
DESCRIPTION:RE+ Southeast brings the region’s clean energy industry together to discuss strategies\, market trends in the southeast\, policy updates that impact businesses\, and numerous networking opportunities to make more connections. \nHighly regarded companies and organizations helped make the 2022 event one to remember! RE+ Southeast (previously Solar and Energy Storage SE) brought together industry leaders and innovators to share ideas and best practices for expanding the southeast’s solar energy market and to network and do business. Be in the know – sign up for event updates and be the first to know when new sessions and exhibitors are added to the program. \nRegister using code PCSE2315NCCETC for 15% off!\nLearn more
URL:https://nccleantech.ncsu.edu/event/re-southeast/
LOCATION:Georgia World Congress Center\, 285 Andrew Young International Blvd NW\, Atlanta\, GA\, United States
CATEGORIES:Policy,Renewables
ATTACH;FMTTYPE=image/jpeg:https://nccleantech.ncsu.edu/wp-content/uploads/2023/05/SE23_Shareables_3.jpg
END:VEVENT
END:VCALENDAR