BEGIN:VCALENDAR
VERSION:2.0
PRODID:-//NC Clean Energy Technology Center - ECPv6.0.7//NONSGML v1.0//EN
CALSCALE:GREGORIAN
METHOD:PUBLISH
X-WR-CALNAME:NC Clean Energy Technology Center
X-ORIGINAL-URL:https://nccleantech.ncsu.edu
X-WR-CALDESC:Events for NC Clean Energy Technology Center
REFRESH-INTERVAL;VALUE=DURATION:PT1H
X-Robots-Tag:noindex
X-PUBLISHED-TTL:PT1H
BEGIN:VTIMEZONE
TZID:UTC
BEGIN:STANDARD
TZOFFSETFROM:+0000
TZOFFSETTO:+0000
TZNAME:UTC
DTSTART:20230101T000000
END:STANDARD
END:VTIMEZONE
BEGIN:VEVENT
DTSTART;TZID=UTC:20230207T080000
DTEND;TZID=UTC:20230209T170000
DTSTAMP:20260425T201825
CREATED:20230112T215533Z
LAST-MODIFIED:20230124T180114Z
UID:9097-1675756800-1675962000@nccleantech.ncsu.edu
SUMMARY:DISTRIBUTECH International®
DESCRIPTION:Join the NC Clean Energy Technology Center at the leading transmission & distribution event\, DISTRIBUTECH International®️ taking place February 7-9 in San Diego\, CA. \nExperience 13 expert-led education tracks\, unparalleled networking opportunities\, and a packed trade show floor featuring 400+ solution providers as experts address technologies used to move electricity from the power plant through the T&D systems to the meter and inside the home. \nThe conference and exhibition offer education\, information\, products and services related to electricity delivery automation and control systems\, energy efficiency\, demand response\, distributed energy resource management systems\, renewable energy and EVSE interconnection\, advanced metering\, T&D system operation\, resiliency and reliability\, communications technologies\, cybersecurity\, sustainability\, and more. \nSave 20% on registration with promo code DTPART15 at distributech.com.\nREGISTER NOW
URL:https://nccleantech.ncsu.edu/event/distributech-international/
LOCATION:San Diego Convention Center
CATEGORIES:Clean Transportation,Policy,Renewables
ATTACH;FMTTYPE=image/png:https://nccleantech.ncsu.edu/wp-content/uploads/2023/01/DT2-1529b_1500x500.png
END:VEVENT
END:VCALENDAR