BEGIN:VCALENDAR
VERSION:2.0
PRODID:-//NC Clean Energy Technology Center - ECPv6.0.7//NONSGML v1.0//EN
CALSCALE:GREGORIAN
METHOD:PUBLISH
X-WR-CALNAME:NC Clean Energy Technology Center
X-ORIGINAL-URL:https://nccleantech.ncsu.edu
X-WR-CALDESC:Events for NC Clean Energy Technology Center
REFRESH-INTERVAL;VALUE=DURATION:PT1H
X-Robots-Tag:noindex
X-PUBLISHED-TTL:PT1H
BEGIN:VTIMEZONE
TZID:UTC
BEGIN:STANDARD
TZOFFSETFROM:+0000
TZOFFSETTO:+0000
TZNAME:UTC
DTSTART:20220101T000000
END:STANDARD
END:VTIMEZONE
BEGIN:VEVENT
DTSTART;TZID=UTC:20220804T140000
DTEND;TZID=UTC:20220804T150000
DTSTAMP:20260422T070130
CREATED:20220602T025635Z
LAST-MODIFIED:20220602T025635Z
UID:8303-1659621600-1659625200@nccleantech.ncsu.edu
SUMMARY:SFT Webinars: Creating a Culture for Change & Gaining Buy-In
DESCRIPTION:Please join us on Thursday\, August 04\, 2022\, from 2:00p-3:00p EST/11:00a-12:00p PST for an SFT Webinar on Creating a Culture for Change & Gaining Buy-In.  Fleet management is dynamic with constant change.  Integration of new strategies and technologies is imperative to stay competitive and to meet the growing demands of your customers.  Key to successful integration and deployment of new strategies and technologies is change management and buy-in across your organization.  Learn some of the basics of change management\, as well as hear best practices and ways some of the top fleets have created a culture that embraces technology\, change and continuous improvement. \nRegister now
URL:https://nccleantech.ncsu.edu/event/sft-webinars-creating-a-culture-for-change-gaining-buy-in/
LOCATION:Virtual
CATEGORIES:Clean Transportation,Clean Transportation Webinars
ORGANIZER;CN="NC%20Clean%20Energy%20Technology%20Center":MAILTO:nccleantech@ncsu.edu
END:VEVENT
END:VCALENDAR