BEGIN:VCALENDAR
VERSION:2.0
PRODID:-//NC Clean Energy Technology Center - ECPv6.0.7//NONSGML v1.0//EN
CALSCALE:GREGORIAN
METHOD:PUBLISH
X-WR-CALNAME:NC Clean Energy Technology Center
X-ORIGINAL-URL:https://nccleantech.ncsu.edu
X-WR-CALDESC:Events for NC Clean Energy Technology Center
REFRESH-INTERVAL;VALUE=DURATION:PT1H
X-Robots-Tag:noindex
X-PUBLISHED-TTL:PT1H
BEGIN:VTIMEZONE
TZID:UTC
BEGIN:STANDARD
TZOFFSETFROM:+0000
TZOFFSETTO:+0000
TZNAME:UTC
DTSTART:20220101T000000
END:STANDARD
END:VTIMEZONE
BEGIN:VEVENT
DTSTART;TZID=UTC:20220130T150000
DTEND;TZID=UTC:20220130T180000
DTSTAMP:20260422T033139
CREATED:20211221T193421Z
LAST-MODIFIED:20211221T193421Z
UID:7636-1643554800-1643565600@nccleantech.ncsu.edu
SUMMARY:EV Car Show & Tailgate at the Hurricanes vs. San Jose Sharks Hockey Game
DESCRIPTION:Join us outside of PNC arena for the Carolina Hurricanes vs. San Jose Sharks hockey game to learn more about the benefits of plug-in hybrid and electric vehicles before the game on January 30\, 2022! With better torque and acceleration\, EVs aren’t just good for the planet\, they’re fun for the whole family. See how far electric vehicles can take you from EV drivers themselves & find the EV for you!
URL:https://nccleantech.ncsu.edu/event/ev-car-show-tailgate-at-the-hurricanes-vs-san-jose-sharks-hockey-game/
LOCATION:PNC Arena\, 1400 Edwards Mill Road\, Raleigh\, NC\, United States
CATEGORIES:Clean Transportation
ORGANIZER;CN="NC%20Clean%20Energy%20Technology%20Center":MAILTO:nccleantech@ncsu.edu
END:VEVENT
END:VCALENDAR