BEGIN:VCALENDAR
VERSION:2.0
PRODID:-//NC Clean Energy Technology Center - ECPv6.0.7//NONSGML v1.0//EN
CALSCALE:GREGORIAN
METHOD:PUBLISH
X-WR-CALNAME:NC Clean Energy Technology Center
X-ORIGINAL-URL:https://nccleantech.ncsu.edu
X-WR-CALDESC:Events for NC Clean Energy Technology Center
REFRESH-INTERVAL;VALUE=DURATION:PT1H
X-Robots-Tag:noindex
X-PUBLISHED-TTL:PT1H
BEGIN:VTIMEZONE
TZID:UTC
BEGIN:STANDARD
TZOFFSETFROM:+0000
TZOFFSETTO:+0000
TZNAME:UTC
DTSTART:20210101T000000
END:STANDARD
END:VTIMEZONE
BEGIN:VEVENT
DTSTART;VALUE=DATE:20210712
DTEND;VALUE=DATE:20210821
DTSTAMP:20260424T151801
CREATED:20201112T034504Z
LAST-MODIFIED:20210603T142017Z
UID:6052-1626048000-1629503999@nccleantech.ncsu.edu
SUMMARY:Online REPV: Fundamentals of PV Design and Installation
DESCRIPTION:This 40-hour\, 6-week online course covers the same information as the in-person REPV class through pre-recorded lectures\, assignments\, and quizzes housed on an online platform. This course is based on NABCEP’s PV Associate Job Task Analysis and qualifies participants to sit for the NABCEP PV Associate Exam.
URL:https://nccleantech.ncsu.edu/event/online-repv-fundamentals-of-pv-design-and-installation-3/
LOCATION:Virtual
CATEGORIES:Training
ORGANIZER;CN="NC%20Clean%20Energy%20Technology%20Center":MAILTO:nccleantech@ncsu.edu
END:VEVENT
BEGIN:VEVENT
DTSTART;TZID=UTC:20210729T080000
DTEND;TZID=UTC:20210730T170000
DTSTAMP:20260424T151801
CREATED:20210721T193324Z
LAST-MODIFIED:20210721T193324Z
UID:6790-1627545600-1627664400@nccleantech.ncsu.edu
SUMMARY:Millennial Action Project: 2021 Future Summit
DESCRIPTION:NCCETC’s Senior Policy Program Director\, Autumn Proudlove\, will be co-leading a breakout discussion\, A New Forecast: Responding to Changing Energy Dynamics for a More Resilient Future\, on Friday\, July 30th at 2:10 pm ET.  \n\n\nEach summer\, the Millennial Action Project hosts the largest bipartisan convening of young state legislators  during the Future Summit. Over the past four years\, hundreds of legislators from across the country have set aside party differences and joined together to collaborate\, share policy ideas\, and gain insight from national policy experts. The Future Summit serves as a central location for policymakers to highlight their efforts and propose solutions to advance legislation  in areas disproportionately affecting the Millennial and future generations. \nOn July 29-30\, MAP will hold the fifth annual Future Summit\, to deepen its mission of activating young leaders to bridge the partisan divide and transform American politics. The Future Summit provides new and innovative perspectives\, bridging the partisan divide\, and adding to the ranks of audacious young leaders ready to chart a new path forward. We will host new and familiar faces at this year’s virtual Future Summit and create an opportunity for attendees to build a network of new relationships\, envision new ideas\, and discover a zeal for creating strong\, bipartisan\, Millennial-driven policy. This virtual event is intended for state legislators under the age of 45.
URL:https://nccleantech.ncsu.edu/event/millennial-action-project-2021-future-summit/
LOCATION:Virtual
CATEGORIES:Policy
END:VEVENT
BEGIN:VEVENT
DTSTART;TZID=UTC:20210729T140000
DTEND;TZID=UTC:20210729T160000
DTSTAMP:20260424T151801
CREATED:20210716T161752Z
LAST-MODIFIED:20210716T161752Z
UID:6729-1627567200-1627574400@nccleantech.ncsu.edu
SUMMARY:SFT Webinar Series: Real World EV Durability\, Long Term Maintenance and Operating Cases
DESCRIPTION:Please join us on Thursday\, July 29\, 2021\, from 2:00p-3:00p EDT/11:00a-12:00p PDT for an SFT Webinar covering Real World EV Performance\, Durability\, Long Term Maintenance Operating Cases. \nSeveral real word EV deployment cases across vehicles classes with performance\, durability and maintenance data compared to their conventional fueled counterparts will be presented. In addition\, aggregate performance and cost metrics from the Zero Emission Bus Resource Alliance (ZEBRA) will be presented. As with deployment of any alternative fuel\, we have controlled test data\, modeling estimates and OEM performance specifications. From experience\, these numbers do not match real world performance. Learn how EVs are performing in real world applications and duty cycles. \nThe Sustainable Fleet Technology Webinar Series is presented through a collaborative partnership between the NC Clean Energy Technology Center\, The 100 Best Fleets and NAFA Fleet Management Association.
URL:https://nccleantech.ncsu.edu/event/sft-webinar-series-real-world-ev-durability-long-term-maintenance-and-operating-cases/
LOCATION:Virtual
CATEGORIES:Clean Transportation
ORGANIZER;CN="NC%20Clean%20Energy%20Technology%20Center":MAILTO:nccleantech@ncsu.edu
END:VEVENT
END:VCALENDAR