BEGIN:VCALENDAR
VERSION:2.0
PRODID:-//NC Clean Energy Technology Center - ECPv6.0.7//NONSGML v1.0//EN
CALSCALE:GREGORIAN
METHOD:PUBLISH
X-WR-CALNAME:NC Clean Energy Technology Center
X-ORIGINAL-URL:https://nccleantech.ncsu.edu
X-WR-CALDESC:Events for NC Clean Energy Technology Center
REFRESH-INTERVAL;VALUE=DURATION:PT1H
X-Robots-Tag:noindex
X-PUBLISHED-TTL:PT1H
BEGIN:VTIMEZONE
TZID:UTC
BEGIN:STANDARD
TZOFFSETFROM:+0000
TZOFFSETTO:+0000
TZNAME:UTC
DTSTART:20210101T000000
END:STANDARD
END:VTIMEZONE
BEGIN:VEVENT
DTSTART;VALUE=DATE:20210607
DTEND;VALUE=DATE:20210610
DTSTAMP:20260422T172514
CREATED:20201112T023703Z
LAST-MODIFIED:20210204T193802Z
UID:5848-1623024000-1623283199@nccleantech.ncsu.edu
SUMMARY:Solar Storage Workshop (VIRTUAL)
DESCRIPTION:This three-day onsite workshop will cover fundamental principles of battery based systems. At the end of the class\, participants will be able to assist in designing and installing a residential PV system with battery back-up.
URL:https://nccleantech.ncsu.edu/event/solar-storage-4/
LOCATION:Virtual
CATEGORIES:Training
ORGANIZER;CN="NC%20Clean%20Energy%20Technology%20Center":MAILTO:nccleantech@ncsu.edu
END:VEVENT
BEGIN:VEVENT
DTSTART;TZID=UTC:20210607T080000
DTEND;TZID=UTC:20210612T170000
DTSTAMP:20260422T172514
CREATED:20210521T162347Z
LAST-MODIFIED:20210521T162347Z
UID:6549-1623052800-1623517200@nccleantech.ncsu.edu
SUMMARY:EPRI Electrification 2021 Virtual Forum Series: Frontiers of e-Mobility
DESCRIPTION:These forums will enable comprehensive collaboration and informative exchanges on the issues specific to your organization’s work\, enabling progress on targeted\, real-world end-use electrification solutions. \nWe look forward to your joining us to continue the conversation in 2021 … #ElectricTogether. \n\nMark Your Calendar for These Upcoming Virtual Forums!\n\n\nMay 17 – 20\nBuilding to Zero\n\nAddressing decarbonization\, affordability and productivity with ambitious\, equitable and community-centered solutions \n\n\n\nJune 7 – 10\nFrontiers of e-Mobility\nAccelerating established options\, advancing new technology\, and ensuring seamless infrastructure and affordable mobility\n\n\nJune 28 – 30\nA Net-Zero Energy System for All\nScaling the grid for an electrified economy and solving the most difficult decarbonization challenges\, with unprecedented resiliency … for all\n\n\nForum Features\n\n\nEducational Sessions\n\n\nFireside Chats\n\n\nBirds of a Feather Discussion Rooms\n\n\nIncubatenergy Labs Start-Up Panels\n\n\nChat Rooms & Roundtable Sessions
URL:https://nccleantech.ncsu.edu/event/epri-electrification-2021-virtual-forum-series-frontiers-of-e-mobility/
LOCATION:SC
END:VEVENT
END:VCALENDAR